BEGIN:VCALENDAR
VERSION:2.0
METHOD:PUBLISH
BEGIN:VEVENT
DTSTART:20260119T200000Z
DTEND:20260629T200000Z
SUMMARY:"Children's Tuhfat Al-Atfal Text Memorization Course" 
CLASS:PUBLIC
END:VEVENT
END:VCALENDAR